BEGIN:VCALENDAR
VERSION:2.0
PRODID:-//DIGITAL FACTORY//EVENTS MAKER V1.6.14//EN
CALSCALE:GREGORIAN
BEGIN:VEVENT
DTEND:20121007
UID:69e950e2a256f
DTSTAMP:20260422T225114Z
CATEGORIES:MIMOSA Members Meetings
LOCATION:Cincinnati, Ohio Cincinnati, Ohio, US
ORGANIZER;
DESCRIPTION:MIMOSA meetings will be on held on October 4-6 in the Duke Energy Convention Center in downtown Cincinnati\, Ohio -- the same venue as the World Congress on Engineering Asset Management which is running its main sessions on October 2-4. A MIMOSA Board meeting will be held the evening of October 5 with a full MIMOSA annual meeting with annual elections being held on October 6 at the University of Cincinnati Intelligent Maintenance Systems Center. The cost is $200 which is paid on-site at the WCEAM registration tables.    Detailed agenda and registration form are attached.
URL;VALUE=URI:https://www.mimosa.org/events/event/2011-mimosa-meeting/
SUMMARY:2011 MIMOSA Meeting
DTSTART:20121004
END:VEVENT
END:VCALENDAR
