BEGIN:VCALENDAR
VERSION:2.0
PRODID:-//DIGITAL FACTORY//EVENTS MAKER V1.6.14//EN
CALSCALE:GREGORIAN
BEGIN:VEVENT
DTEND:20171116T223000Z
UID:69e950a117c80
DTSTAMP:20260422T225009Z
CATEGORIES:MIMOSA Open Meetings
LOCATION:SAP Offices 2601 Westheimer\, Suite 250, Houston, Tx, 77098, US
ORGANIZER;
DESCRIPTION:Some of the material presented at the Open Meeting can be found on the presentations page.
URL;VALUE=URI:https://www.mimosa.org/events/event/2017-industry-digitalization-open-forum/
SUMMARY:2017 Industry Digitalization Open Forum
DTSTART:20171116T143000Z
END:VEVENT
END:VCALENDAR
