BEGIN:VCALENDAR
VERSION:2.0
PRODID:-//DIGITAL FACTORY//EVENTS MAKER V1.6.14//EN
CALSCALE:GREGORIAN
BEGIN:VEVENT
DTEND:20180216
UID:69e96101980a3
DTSTAMP:20260423T000001Z
LOCATION:Orlando, FL Orlando, Florida, US
DESCRIPTION:MIMOSA will be participating in the 2018 ARC Forum in Orlando Florida. Ken Dunn from BP will be presenting the OIIE in a session discussing platforms\, IIOT\, Big Data and Life-cycle Asset Management on Tuesday\, February 13 at 2:00 PM.
URL;VALUE=URI:https://www.mimosa.org/events/event/2018-arc-forum/
SUMMARY:2018 ARC Forum
DTSTART:20180212
END:VEVENT
END:VCALENDAR
