BEGIN:VCALENDAR
VERSION:2.0
PRODID:-//DIGITAL FACTORY//EVENTS MAKER V1.6.14//EN
CALSCALE:GREGORIAN
BEGIN:VEVENT
DTEND:20190208
UID:69e95071e8cfb
DTSTAMP:20260422T224921Z
DESCRIPTION:MIMOSA will be a sponsoring association in the 2019 ARC Industry Forum in Orlando Florida.  Parties interested in attending the event should contact ARC at the link below.    https://www.arcweb.com/events/arc-industry-forum-orlando
URL;VALUE=URI:https://www.mimosa.org/events/event/2019-arc-forum/
SUMMARY:ARC Industry Forum Orlando 2019
DTSTART:20190204
END:VEVENT
END:VCALENDAR
