BEGIN:VCALENDAR
VERSION:2.0
PRODID:-//DIGITAL FACTORY//EVENTS MAKER V1.6.14//EN
CALSCALE:GREGORIAN
BEGIN:VEVENT
DTEND:20201215T143000Z
UID:69e95135cb5b5
DTSTAMP:20260422T225237Z
CATEGORIES:MIMOSA Members Meetings
ORGANIZER;
DESCRIPTION:In order to address the many conflicting commitments associated with COVID-19 responses\, the 2020 MIMOSA Annual Members Meeting will be held in the first 2 months of 2021 at a date and time to be agreed and published in January.    This 2020 Year End Meeting will be held to provide a short summary of current status and activities and to discuss possible dates for the now postponed 2020 Members Meeting and Open Meeting.    A link for a GoToMeeting to support the 2020 Year End Meeting is provided immediately below.    https://global.gotomeeting.com/join/369890717    &nbsp\;
URL;VALUE=URI:https://www.mimosa.org/events/event/2020-mimosa-annual-members-meeting/
SUMMARY:2020 MIMOSA Year End Meeting
DTSTART:20201215T133000Z
END:VEVENT
END:VCALENDAR
