BEGIN:VCALENDAR
VERSION:2.0
PRODID:-//DIGITAL FACTORY//EVENTS MAKER V1.6.14//EN
CALSCALE:GREGORIAN
BEGIN:VEVENT
DTEND:20240627T173000Z
UID:69e941ad88308
DTSTAMP:20260422T214621Z
DESCRIPTION:The 2024 MIMOSA Members Meeting will be hosted by DOW at their Houston Center.  A virtual meeting will also be provided.
URL;VALUE=URI:https://www.mimosa.org/events/event/2024-mimosa-members-meeting/
SUMMARY:2024 MIMOSA Members Meeting
DTSTART:20240627T143000Z
END:VEVENT
END:VCALENDAR
