BEGIN:VCALENDAR
VERSION:2.0
PRODID:-//DIGITAL FACTORY//EVENTS MAKER V1.6.14//EN
CALSCALE:GREGORIAN
BEGIN:VEVENT
DTEND:20240626T213000Z
UID:69e9413ba714b
DTSTAMP:20260422T214427Z
DESCRIPTION:The 2024 OpenO&amp\;M Meeting will be hosted by DOW in Houston\, TX.  It is organized by MIMOSA and ISA on behalf of the OpenO&amp\;M participating organizations.    A virtual meeting will also be provided for those who cannot attend attend in person.    Guest are welcome to attend.    &nbsp\;
URL;VALUE=URI:https://www.mimosa.org/events/event/2024-openom-meeting/
SUMMARY:2024 OpenO&amp\;M Meeting
DTSTART:20240626T140000Z
END:VEVENT
END:VCALENDAR
