BEGIN:VCALENDAR
VERSION:2.0
PRODID:-//DIGITAL FACTORY//EVENTS MAKER V1.6.14//EN
CALSCALE:GREGORIAN
BEGIN:VEVENT
DTEND:20181108T010000Z
UID:69e95135cb655
DTSTAMP:20260422T225237Z
LOCATION:Queensland University of Technology - Gardens Point Campus 
DESCRIPTION:Alan Johnston will be a featured speaker at the Asset Institute's Annual Member Forum this year\, where he will be discussing "Critical Infrastructure Management and Physical Asset Management Standards"    See attached agenda.
URL;VALUE=URI:https://www.mimosa.org/events/event/asset-institute-2018-annual-member-forum/
SUMMARY:Asset Institute 2018 Annual Member Forum
DTSTART:20181107T200000Z
END:VEVENT
END:VCALENDAR
