BEGIN:VCALENDAR
VERSION:2.0
PRODID:-//DIGITAL FACTORY//EVENTS MAKER V1.6.14//EN
CALSCALE:GREGORIAN
BEGIN:VEVENT
DTEND:20200124
UID:69e951653c6f0
DTSTAMP:20260422T225325Z
CATEGORIES:Non-MIMOSA Events
DESCRIPTION:MIMOSA has been invited by IOGP to participate in the CFIHOS (IOGP JIP-36) Face-to-Face meeting being held January 20th through 23rd 2020. MIMOSA is pleased to be a part of the CFIHOS journey as they transition from USPI to the new organization under IOGP.
URL;VALUE=URI:https://www.mimosa.org/events/event/cfihos-iogp-jip-36-face-to-face-meeting-2020/
SUMMARY:CFIHOS (IOGP JIP-36) Face-to-Face Meeting 2020
DTSTART:20200120
END:VEVENT
END:VCALENDAR
