BEGIN:VCALENDAR
VERSION:2.0
PRODID:-//DIGITAL FACTORY//EVENTS MAKER V1.6.14//EN
CALSCALE:GREGORIAN
BEGIN:VEVENT
DTEND:20130923
UID:69e9610ac01e7
DTSTAMP:20260423T000010Z
LOCATION:Houston, Texas Houston, Texas, 77079, US
DESCRIPTION:MIMOSA is an invited guest at the Energistics PRODM SAM Workshop. MIMOSA and Energistics are both founding members of the Standards Leadership Council and we are thus committed to collaboration with each other resulting in using each others key standards rather than 're-inventing' wheels. In this case\, the discussion is about how the PRODML SAM team can leverage the MIMOSA CCOM Asset Object Model.    Download Presentation
URL;VALUE=URI:https://www.mimosa.org/events/event/energistics-prodml-sam-workshop/
SUMMARY:Energistics PRODML SAM Workshop
DTSTART:20130923
END:VEVENT
END:VCALENDAR
