BEGIN:VCALENDAR
VERSION:2.0
PRODID:-//DIGITAL FACTORY//EVENTS MAKER V1.6.14//EN
CALSCALE:GREGORIAN
BEGIN:VEVENT
DTEND:20160407
UID:69e973d0d72d8
DTSTAMP:20260423T012016Z
LOCATION:Hyatt Regency Lost Pines Resort &amp; Spa-Near Austin, TX 
DESCRIPTION:MIMOSA will be participating in the Fiatech 2016 Technology Conference and Showcase to be held April 4-6 near Austin\, Texas.  MIMOSA will be discussing our Open Industrial Interoperability Ecosystem (OIIE)\, the associated Oil and Gas Interoperability (OGI) Pilot and the Industry Standard Datasheet Definitions (ISDD) Project as part of the Interoperability Breakout session at 12:30 PM on on Wednesday\, April 5.  Further information is available on the Fiatech website.
URL;VALUE=URI:https://www.mimosa.org/events/event/fiatech-2016-technology-conference-and-showcase/
SUMMARY:Fiatech 2016 Technology Conference and Showcase
DTSTART:20160404
END:VEVENT
END:VCALENDAR
