BEGIN:VCALENDAR
VERSION:2.0
PRODID:-//DIGITAL FACTORY//EVENTS MAKER V1.6.14//EN
CALSCALE:GREGORIAN
BEGIN:VEVENT
DTEND:20200630T163000Z
UID:69e950b65e03e
DTSTAMP:20260422T225030Z
DESCRIPTION:A Collaboration of NIST\, ISA\, MIMOSA\, MTConnect and OAGi    For industrial enterprises - ranging from automotive\, food\, agriculture\, chemical\, manufacturing  to energy - digital transformation promises gains in productivity and agility. Even as integration costs per node come down\, system complexity is going up. Standards developers and users alike seek to untangle the technologies and protocols underpinning repeatable\, scalable\, and sustainable data management from the shop floor to the top floor.    This is the second annual Industrial Digital Ecosystem Summit.  NIST hosted the first summit last June\, the same week that ISO published ISO TS 18101-1.  ISO 18101 is the first ISO standard to provide requirements for a supplier-neutral industrial digital ecosystem\, based on the Open Industrial Digital Ecosystem (OIIE) and the associated OIIE Oil and Gas Interoperability (OGI) Pilot.  This year's summit will continue feature the OIIE and ISO 18101 along with other important standardization activities related to industrial digital ecosystems.    More information and registration is available at this link.
URL;VALUE=URI:https://www.mimosa.org/events/event/industrial-digital-ecosystem-summit/
SUMMARY:Open Industrial Digital Ecosystem Summit
DTSTART:20200630T130000Z
RDATE:20200630T080000Z;
RDATE:20200701T080000Z;
END:VEVENT
END:VCALENDAR
