BEGIN:VCALENDAR
VERSION:2.0
PRODID:-//DIGITAL FACTORY//EVENTS MAKER V1.6.14//EN
CALSCALE:GREGORIAN
BEGIN:VEVENT
DTEND:20200509T160000Z
UID:69e950e31235f
DTSTAMP:20260422T225115Z
DESCRIPTION:The output from the joint meeting between ISO TC 184/WG 6 and TC 184/SC 4/WG 3/22 will be presented during the plenary session on Thursday\, May 7.
URL;VALUE=URI:https://www.mimosa.org/events/event/iso-tc-184-sc-4-plenary/
SUMMARY:ISO TC 184/SC 4 Plenary
DTSTART:20200505T120000Z
END:VEVENT
END:VCALENDAR
