BEGIN:VCALENDAR
VERSION:2.0
PRODID:-//DIGITAL FACTORY//EVENTS MAKER V1.6.14//EN
CALSCALE:GREGORIAN
BEGIN:VEVENT
DTEND:20200429T133000Z
UID:69e951654f2ca
DTSTAMP:20260422T225325Z
DESCRIPTION:This joint ISO meeting is to discuss and agree on alignment between the 2 working groups to use ISO 18101 as the interoperability framework to show how business value is obtained from ISO TC 184/SC 4 developed reference data.
URL;VALUE=URI:https://www.mimosa.org/events/event/iso-tc-184-sc-4-wg-3-22-and-tc-184-wg-6-joint-meeting/
SUMMARY:ISO TC 184/SC 4/WG 3/22 and TC 184/WG 6 Joint Meeting
DTSTART:20200429T113000Z
END:VEVENT
END:VCALENDAR
