BEGIN:VCALENDAR
VERSION:2.0
PRODID:-//DIGITAL FACTORY//EVENTS MAKER V1.6.14//EN
CALSCALE:GREGORIAN
BEGIN:VEVENT
DTEND:20191206T230000Z
UID:69e95136aa03f
DTSTAMP:20260422T225238Z
DESCRIPTION:An ISO TC 184/WG 6 Meeting will be held on Dec 5 and 6 from 9:00 AM until 5 PM US CST for WG 6 Members and Invited Guests.  WG 6 has the Scope of Asset Intensive Industry Interoperability and is currently developing parts of ISO 18101.    The meeting will be hosted by Dow at their Dow Center location in Houston\, TX. The Address is 1254 Enclave Pkwy\, Houston\, TX 77077.    Full details are available on the ISO TC 184 Meetings Page (for WG 6 members).    Individuals who are interested in WG\, but are not members should contact the WG 6 Convenor\, Alan Johnston at atjohn@mimosa.org.
URL;VALUE=URI:https://www.mimosa.org/events/event/iso-tc-184-wg-6-meeting-2/
SUMMARY:ISO TC 184/WG 6 Meeting
DTSTART:20191205T150000Z
END:VEVENT
END:VCALENDAR
