BEGIN:VCALENDAR
VERSION:2.0
PRODID:-//DIGITAL FACTORY//EVENTS MAKER V1.6.14//EN
CALSCALE:GREGORIAN
BEGIN:VEVENT
DTEND:20181209
UID:69e9512080e4a
DTSTAMP:20260422T225216Z
LOCATION:BP Helios Center 201 Helios Way, Houston, Texas, 77079, US
DESCRIPTION:Full Details are available on the ISO TC 184 meetings page (for WG 6 members).    The meeting will be held at the BP Helios Center on the 6th and 7th December. On the 8th December\, the location will change to the Holiday Inn Express @ Energy Corridor.
URL;VALUE=URI:https://www.mimosa.org/events/event/iso-tc-184-wg-6-meeting/
SUMMARY:ISO TC 184/WG 6 Meeting
DTSTART:20181206
END:VEVENT
END:VCALENDAR
