BEGIN:VCALENDAR
VERSION:2.0
PRODID:-//DIGITAL FACTORY//EVENTS MAKER V1.6.14//EN
CALSCALE:GREGORIAN
BEGIN:VEVENT
DTEND:20150805T220000Z
UID:69e974c5105bd
DTSTAMP:20260423T012421Z
LOCATION:The Westin Galleria 5011 Westheimer Road, Houston, Texas, 77056, US
DESCRIPTION:A Joint MIMOSA and Fiatech Industry Standard Datasheet Definition Meeting will be held on August 4 and 5 in Houston\, Texas and it will be co-located with the Solutions 2.0 Conference at The Westin Galleria\, 5011 Westheimer Road\, Houston\, TX 77056. The meeting will start at 1:00 PM on Tuesday afternoon\, August 4 and will end at noon on Wednesday\, August 5. The meeting is an outgrowth of the continuing series of Joint Meetings associated with Reference Data Library improvement and there is a special emphasis on Physical Asset Life-cycle Management related RDL.    Due to an agreement between MIMOSA\, Fiatech and Reliability Web\, there will be no cost to attendees for this ISDD meeting. All interested parties must contact either MIMOSA or Fiatech in advance for your meeting registration. Please arrive no later than 12:30 PM on August 4\, so the meeting may start promptly at 1:00 PM.
URL;VALUE=URI:https://www.mimosa.org/events/event/joint-mimosa-and-fiatech-industry-standard-datasheet-definition-meeting/
SUMMARY:Joint MIMOSA and Fiatech Industry Standard Datasheet Definition Meeting
DTSTART:20150804T180000Z
END:VEVENT
END:VCALENDAR
