BEGIN:VCALENDAR
VERSION:2.0
PRODID:-//DIGITAL FACTORY//EVENTS MAKER V1.6.14//EN
CALSCALE:GREGORIAN
BEGIN:VEVENT
DTEND:20130503
UID:69e973fe42296
DTSTAMP:20260423T012102Z
LOCATION:Hyatt Regency O'Hare Hotel - Rosemont IL 9300 W Bryn Mawr Ave, Rosemont, Illinois, 60018, US
DESCRIPTION:Cliff Pedersen\, Chief Information Officer at North West Redwater Partnership (Retired) and Owner/Operator Leadership Council participant\, along with Alan Johnston\, MIMOSA President will be Keynote Speakers on May 2 at the MARTS Conference. Their joint presentation is entitled 'How Can IT Better Support Maintenance?' and it will focus on how methods and standards being proven through the OGI Pilot contribute to more effective Maintenance and also overall plant\, platform and facilities Operational Excellence. We would like to encourage our members and website registrants to attend this event to learn more about linking the OGI Pilot work to practical O&amp\;M performance improvements.    More information about the MARTS Conference including registration information is available at the MARTS 2013 website. A special discount is available for MIMOSA members and registrants attending the event.
URL;VALUE=URI:https://www.mimosa.org/events/event/maintenance-and-reliability-technology-summit-marts/
SUMMARY:Maintenance and Reliability Technology Summit (MARTS)
DTSTART:20130501
END:VEVENT
END:VCALENDAR
