BEGIN:VCALENDAR
VERSION:2.0
PRODID:-//DIGITAL FACTORY//EVENTS MAKER V1.6.14//EN
CALSCALE:GREGORIAN
BEGIN:VEVENT
DTEND:20151201T220000Z
UID:69e961cc52ded
DTSTAMP:20260423T000324Z
CATEGORIES:MIMOSA Members Meetings
LOCATION:BP America - Pondview Room Westlake 1\, 501 Westlake Park Blvd, Houston, Texas, 77079, US
ORGANIZER;
DESCRIPTION:The MIMOSA 2015 Members Business Meeting will be hosted by BP America in their Houston offices at Westlake Park Blvd. Houston\, Tx\, 77079 on Dec 1\, 2015.    Registration and arrivals will commence at 9:00 AM CST\, with coffee and pastries being served in the meeting room.  The informal portion of the meeting will commence at 9:30 AM with a welcome and safety briefing from our host\, Ken Dunn.  The formal MIMOSA Business Meeting will begin at 2:00CST and will conclude at 4:00 PM CST.    Logistics: Follow signs to Westlake 1 Visitor parking. Press button on intercom\, indicate you are here for Mimosa meeting.  Proceed to Westlake 1 Reception\, provide driver’s license for identification.  Then\, ask for directions to Pondview room    Meeting Attendees need to send an email to atjohn@mimosa.org containing your name\, nationality and the firm you will be representing\, in order to have credentials prepared in advance.
URL;VALUE=URI:https://www.mimosa.org/events/event/mimosa-2015-members-business-meeting/
SUMMARY:MIMOSA 2015 Members Business Meeting
DTSTART:20151201T150000Z
END:VEVENT
END:VCALENDAR
