BEGIN:VCALENDAR
VERSION:2.0
PRODID:-//DIGITAL FACTORY//EVENTS MAKER V1.6.14//EN
CALSCALE:GREGORIAN
BEGIN:VEVENT
DTEND:20170930
UID:69e961cd053be
DTSTAMP:20260423T000325Z
CATEGORIES:MIMOSA Members Meetings\,MIMOSA Open Meetings
LOCATION:BP Helios Center 201 Helios Way, Houston, Texas, 77079, US
ORGANIZER;
DESCRIPTION:The meeting was held November 16-17\, 2017. Some of the material presented at the Open Meeting can be found on the presentations page.    MEETING Cancellation Notice: The MIMOSA Open and Members meeting has been cancelled due to the recent flooding events in Houston\, which resulted in the closure of the BP Conference Facilities. We are in the process of re-scheduling the meetings. The most likely dates are now November 16-17\, 2017.    MIMOSA announces their 2017 Annual MIMOSA Open Meeting and MIMOSA Members Meeting to be held in Houston\, Texas on Sep 28-29\,  2017.  The meeting is being hosted by BP and the address for the meetings is BP Helios\,  201 Helios Way Houston\, Texas 77079.    Additional details and the agendas for each meeting will be provided as they are developed.    Those interested in attending the meetings should RSVP MIMOSA at info@mimosa.org.
URL;VALUE=URI:https://www.mimosa.org/events/event/mimosa-2017-annual-members-and-open-meetings/
SUMMARY:Cancelled: MIMOSA 2017 Annual Members and Open Meetings
DTSTART:20170928
END:VEVENT
END:VCALENDAR
