BEGIN:VCALENDAR
VERSION:2.0
PRODID:-//DIGITAL FACTORY//EVENTS MAKER V1.6.14//EN
CALSCALE:GREGORIAN
BEGIN:VEVENT
DTEND:20171117T190000Z
UID:69e95127764bf
DTSTAMP:20260422T225223Z
CATEGORIES:MIMOSA Members Meetings
LOCATION:SAP Offices 2601 Westheimer\, Suite 250, Houston, Tx, 77098, US
ORGANIZER;
DESCRIPTION:
URL;VALUE=URI:https://www.mimosa.org/events/event/mimosa-2017-members-meeting/
SUMMARY:MIMOSA 2017 Members Meeting
DTSTART:20171117T140000Z
END:VEVENT
END:VCALENDAR
