BEGIN:VCALENDAR
VERSION:2.0
PRODID:-//DIGITAL FACTORY//EVENTS MAKER V1.6.14//EN
CALSCALE:GREGORIAN
BEGIN:VEVENT
DTEND:20181204T230000Z
UID:69e950e8763c0
DTSTAMP:20260422T225120Z
CATEGORIES:MIMOSA Members Meetings
LOCATION:BP Helios Center 201 Helios Way, Houston, Texas, 77079, US
ORGANIZER;
DESCRIPTION:
URL;VALUE=URI:https://www.mimosa.org/events/event/mimosa-2018-members-meeting/
SUMMARY:MIMOSA 2018 Members Meeting
DTSTART:20181204T140000Z
END:VEVENT
END:VCALENDAR
