BEGIN:VCALENDAR
VERSION:2.0
PRODID:-//DIGITAL FACTORY//EVENTS MAKER V1.6.14//EN
CALSCALE:GREGORIAN
BEGIN:VEVENT
DTEND:20181205T230000Z
UID:69e950e2a2702
DTSTAMP:20260422T225114Z
CATEGORIES:MIMOSA Open Meetings
LOCATION:BP Helios Center 201 Helios Way, Houston, Texas, 77079, US
ORGANIZER;
DESCRIPTION:
URL;VALUE=URI:https://www.mimosa.org/events/event/mimosa-2018-open-industry-digitalization-forum/
SUMMARY:MIMOSA 2018 Open Industry  Digitalization Forum
DTSTART:20181205T140000Z
END:VEVENT
END:VCALENDAR
