BEGIN:VCALENDAR
VERSION:2.0
PRODID:-//DIGITAL FACTORY//EVENTS MAKER V1.6.14//EN
CALSCALE:GREGORIAN
BEGIN:VEVENT
DTEND:20210119T150000Z
UID:69e950e8762e7
DTSTAMP:20260422T225120Z
CATEGORIES:MIMOSA Members Meetings
ORGANIZER;
DESCRIPTION:This is the delayed MIMOSA Members Meeting for the year ending Dec 31\, 2020.    It is open to all MIMOSA members and will be where regular business activities of the association will be addressed including annual reports and elections of directors and officers.    A separate MIMOSA Open Meeting will be scheduled early in 2021 to include invited guest and discuss alignment with them and the rest of industry.    This will be a virtual meeting using GoToMeeting and an Outlook invitation is being sent to MIMOSA members.  If you have not received the invitation please contact Alan Johnston\, MIMOSA President at atjohn@mimosa.org.
URL;VALUE=URI:https://www.mimosa.org/events/event/mimosa-2020-members-meeting/
SUMMARY:MIMOSA Members Meeting - Year ended Dec 31\, 2020
DTSTART:20210119T120000Z
END:VEVENT
END:VCALENDAR
