BEGIN:VCALENDAR
VERSION:2.0
PRODID:-//DIGITAL FACTORY//EVENTS MAKER V1.6.14//EN
CALSCALE:GREGORIAN
BEGIN:VEVENT
DTEND:20220421T130000Z
UID:69e9418e480f4
DTSTAMP:20260422T214550Z
DESCRIPTION:The date for the MIMOSA Open Meetings have been changed to April 19 and 21 from 6 until 8 AM US CST both mornings.  Due to ongoing COVID-19 Protocols\, the meetings will be held virtually.    The current Agenda for the April 21 Session is immediately below.  All times are US CDT.    Agenda for April 21    6:00 AM – Meetings Open and Welcome    6:05 AM – UniSA - FEnEx CRC Analytics Project Update    6:35 AM – Joe Mathew - Asset Institute    6:50 AM – Don Sands - OIIE Australian WG    7:00 AM – Erik Molin – SEIIA    7:15 AM – Arto Marttinen - THTH     7:30 AM – Pak Wong – OIIE CBM Use Case and MIMOSA OSA-CBM    7:45 AM – Dale Williams/Alan Johnston - CII/MIMOSA JWG    7:55 AM – Discussion and Closing Comments    The meeting URL is found below.    https://teams.microsoft.com/l/meetup-join/19%3ameeting_YTNiN2VhYjUtZGJjMi00YTYyLTk2NTUtZTIxZTY2NWJlYzM2%40thread.v2/0?context=%7b%22Tid%22%3a%222986288f-3498-4ac9-86df-d5c77d0aa216%22%2c%22Oid%22%3a%2263c46c01-5a26-484b-a224-838272b25ea8%22%7d
URL;VALUE=URI:https://www.mimosa.org/events/event/mimosa-2022-open-meetings/
SUMMARY:MIMOSA 2022 Open Meetings
DTSTART:20220421T110000Z
END:VEVENT
END:VCALENDAR
