BEGIN:VCALENDAR
VERSION:2.0
PRODID:-//DIGITAL FACTORY//EVENTS MAKER V1.6.14//EN
CALSCALE:GREGORIAN
BEGIN:VEVENT
DTEND:20130321
UID:69e974634e779
DTSTAMP:20260423T012243Z
LOCATION:BP (North Eldridge Parkway) 737 North Eldridge Parkway, Houston, Texas, 77079, US
ORGANIZER;
DESCRIPTION:The Forum will feature presentations and discussion from owner/operators and invited guests (principally EPCs and standards team leaders as well as FIATECH) identifying key business requirements and solutions leveraging open\, supplier neutral standards\, with a focus on the benefits of using OpenO&amp\;M/MIMOSA and ISO 15926/PCA Reference Data Library in coordinated fashion.    Those planning to attend the Owner/Operator Forum need to send an email to us with your basic contact information and nationality so that we may make proper provisions with our host\, BP.  Key themes     	Interoperability requirements   	Interoperability standards - usage and implementation   	Cross domain\, company and organization collaboration    Sessions  Owner/Operator Forum by Invitation\, March 21st\, hosted by BP\, 737 North Eldridge Parkway\, Houston TX 77079  Recommended Attendees     	Owner/Operators   	Invited guests    Hotels  Hotels close to BP's offices at 737 North Eldridge Parkway\, Houston TX 77079 are listed below:    Residence Inn Houston West/Energy Corridor  1150 Eldridge Pkwy\, Houston\, TX  (281) 293-8787    Omni Houston Hotel at Westside  13210 Katy Fwy\, Houston\, TX  (281) 558-8338    Holiday Inn Houston Energy Corridor Eldridge  1112 Eldridge Pkwy S\, Houston\, TX  (281) 679-6900    Courtyard Houston I-10 West/Energy Corridor  12401 Katy Fwy\, Houston\, TX  (281) 496-9090    Staybridge Suites Houston West/Energy Corridor  1225 Eldridge Pkwy S\, Houston\, TX  (281) 759-7829    Hilton Garden Inn Houston Energy Corridor  12245 Katy Fwy\, Houston\, TX  (281) 531-0220    Holiday Inn Express Hotel Hou I-10 West Energy Corridor  12323 Katy Fwy\, Houston\, TX  (281) 493-5626    Note: We recommend securing a rental car at the airport when you arrive to use during your stay in Houston.  Agenda Outline  Invited Owner Operators Forum - Establishing and Proving Interoperability    Session Chair: TBD  08:30 AM Registration  09:00 AM Welcome  09:15 AM Owner/Operator presentations  12:30 AM Lunch    Session Chair: TBD  01:30 PM Invited presentations  03:00 PM Break  03:30 PM Standards overview  04:00 PM Discussion - Path forward  05:00 PM Forum Close
URL;VALUE=URI:https://www.mimosa.org/events/event/mimosa-and-pca-owneroperator-forum-americas-2013/
SUMMARY:MIMOSA and PCA Owner/Operator Forum - Americas 2013
DTSTART:20130321
END:VEVENT
END:VCALENDAR
