BEGIN:VCALENDAR
VERSION:2.0
PRODID:-//DIGITAL FACTORY//EVENTS MAKER V1.6.14//EN
CALSCALE:GREGORIAN
BEGIN:VEVENT
DTEND:20220323T000000Z
UID:69e941ad887a1
DTSTAMP:20260422T214621Z
DESCRIPTION:MIMOSA will hold its Annual Members Meeting on March 22\, 2022 from 4 PM until 7 PM US CST.    An Agenda and URL will be provided at least 2 weeks in Advance.
URL;VALUE=URI:https://www.mimosa.org/events/event/mimosa-annual-members-meeting/
SUMMARY:MIMOSA Annual Members Meeting
DTSTART:20220322T210000Z
END:VEVENT
END:VCALENDAR
