BEGIN:VCALENDAR
VERSION:2.0
PRODID:-//DIGITAL FACTORY//EVENTS MAKER V1.6.14//EN
CALSCALE:GREGORIAN
BEGIN:VEVENT
DTEND:20191203T230000Z
UID:69e95127dbb44
DTSTAMP:20260422T225223Z
CATEGORIES:MIMOSA Members Meetings
DESCRIPTION:The MIMOSA 2019 Members Meeting will be held on Tuesday\, Dec 3  from 9:00 AM until 5 PM  US CST.  The meeting will be hosted by Dow at their Dow Center location in Houston\, TX.  The Address is 1254 Enclave Pkwy\, Houston\, TX 77077.  A GoToMeeting will also be set up and announced for those MIMOSA members who are unable to attend in person.    Please contact MIMOSA President Alan Johnston at atjohn@mimosa.org in order to be added to the list for Dow security or for any questions.
URL;VALUE=URI:https://www.mimosa.org/events/event/mimosa-members-meeting/
SUMMARY:MIMOSA 2019 Members Meeting
DTSTART:20191203T150000Z
END:VEVENT
END:VCALENDAR
