BEGIN:VCALENDAR
VERSION:2.0
PRODID:-//DIGITAL FACTORY//EVENTS MAKER V1.6.14//EN
CALSCALE:GREGORIAN
BEGIN:VEVENT
DTEND:20190605
UID:69e9512776600
DTSTAMP:20260422T225223Z
DESCRIPTION:MIMOSA is proud to co-sponsor\, along with OAGi\, the NIST Open Industrial Digital Ecosystem Summit. The theme of the summit is "Enabling Supplier Neutral Standards-based Interoperability" and will feature the keynotes\, presentations\, and demonstrations of MIMOSA's OIIE™ digital ecosystem\, as well as presentations from manufacturers\, OAGi\, and NIST relating to smart manufacturing\, standards\, and their application.
URL;VALUE=URI:https://www.mimosa.org/events/event/nist-open-industrial-digital-ecosystem-summit/
SUMMARY:NIST Open Industrial Digital Ecosystem Summit
DTSTART:20190603
END:VEVENT
END:VCALENDAR
