BEGIN:VCALENDAR
VERSION:2.0
PRODID:-//DIGITAL FACTORY//EVENTS MAKER V1.6.14//EN
CALSCALE:GREGORIAN
BEGIN:VEVENT
DTEND:20211021T160000Z
UID:69e941c81b035
DTSTAMP:20260422T214648Z
CATEGORIES:Non-MIMOSA Events
DESCRIPTION:CFE Edu and CFE Media\, the publishers of Control Engineering\, Plant Engineering\, Oil and Gas Engineering\, and Consulting-Specifying Engineer Magazines are including an OIIE and ISO 18101 course on the  in their Fall Virtual Training Week.  The course is entitled "Standards-Based Interoperability for Digital Transformation in Asset Lifecycle Management" and the session will be made available starting on Thursday\, October 21\, 2021 at 10am CDT/ 11am EDT.    Please follow the following link to Control Engineering Magazine for more information and a link to sign up for the course.  https://www.controleng.com/articles/asset-lifecycle-management-interoperability-standards-help-digital-transformation/    CFE Edu has also provided a direct link to the course found immediately below.    https://koi-3QNB43CILU.marketingautomation.services/net/m?md=UwKTDAzHi6hGcVXWRxBu%2BmmQ15jUNqsf
URL;VALUE=URI:https://www.mimosa.org/events/event/oiie-and-iso-18101-for-cfe-edu-and-cfe-media-fall-virtual-training-week-october-18-22/
SUMMARY:OIIE and ISO 18101 for CFE Edu and CFE Media FALL VIRTUAL TRAINING WEEK-October 18-22
DTSTART:20211021T150000Z
END:VEVENT
END:VCALENDAR
