BEGIN:VCALENDAR
VERSION:2.0
PRODID:-//DIGITAL FACTORY//EVENTS MAKER V1.6.14//EN
CALSCALE:GREGORIAN
BEGIN:VEVENT
DTEND:20200421T020000Z
UID:69e9512812866
DTSTAMP:20260422T225224Z
DESCRIPTION:This is the 1st of 2 webinars being used as formative organizational events for the OIIE Australian Working Group.
URL;VALUE=URI:https://www.mimosa.org/events/event/oiie-australian-working-group-webinar/
SUMMARY:OIIE Australian Working Group Webinar
DTSTART:20200420T230000Z
END:VEVENT
END:VCALENDAR
