BEGIN:VCALENDAR
VERSION:2.0
PRODID:-//DIGITAL FACTORY//EVENTS MAKER V1.6.14//EN
CALSCALE:GREGORIAN
BEGIN:VEVENT
DTEND:20211103T173000Z
UID:69e950e9b463a
DTSTAMP:20260422T225121Z
CATEGORIES:Working Group Meeting
ORGANIZER;
DESCRIPTION:As part of the OIIE AuWG efforts\, a series of pre-recorded material will be published for OIIE AuWG participants to understand the concept and implementation of OIIE Components and Specifications. The pre-recorded material can be accessed here [https://www.mimosa.org/recordings/].    After viewing the recordings\, the OIIE AuWG participants can ask questions or provide feedback in the Q&amp\;A sessions.    The schedule and detail of 4 workshops are as below -
URL;VALUE=URI:https://www.mimosa.org/events/event/oiie-australian-working-group-workshops-qa-session/
SUMMARY:OIIE Australian Working Group Workshops Q&amp\;A Session
DTSTART:20211103T163000Z
RDATE:20211103T113000Z;
END:VEVENT
END:VCALENDAR
