BEGIN:VCALENDAR
VERSION:2.0
PRODID:-//DIGITAL FACTORY//EVENTS MAKER V1.6.14//EN
CALSCALE:GREGORIAN
BEGIN:VEVENT
DTEND:20200201
UID:69e950ab5bceb
DTSTAMP:20260422T225019Z
CATEGORIES:Non-MIMOSA Events
DESCRIPTION:MIMOSA has been invited to participate in OPC Foundation's Asset Harmonization Workshop on January 30th and 31st 2020. We are pleased to do so in support of our collaboration with OPC Foundation as joint members of the OpenO&amp\;M Initiative.
URL;VALUE=URI:https://www.mimosa.org/events/event/opc-foundation-asset-harmonization-workshop/
SUMMARY:OPC Foundation Asset Harmonization Workshop
DTSTART:20200130
END:VEVENT
END:VCALENDAR
