BEGIN:VCALENDAR
VERSION:2.0
PRODID:-//DIGITAL FACTORY//EVENTS MAKER V1.6.14//EN
CALSCALE:GREGORIAN
BEGIN:VEVENT
DTEND:20201217T140000Z
UID:69e95150c1a81
DTSTAMP:20260422T225304Z
CATEGORIES:MIMOSA Members Meetings\,Non-MIMOSA Events\,Working Group Meeting
ORGANIZER;
DESCRIPTION:The IPA/MIMOSA OIIE Capital Projects Working Group will hold its second meeting on December 17\, 2020.  The meeting will follow-up on the 1st meeting (held November 4\, 2020) and start to establish informal teams to identify business challenges and opportunities for improvement in the capital projects industry that may benefit from an improved approach to digital transformation. Once this is done\, priorities will be agreed and established to help drive a pragmatic effort for business improvement in this sector.    The effort will be based on a formal approach for developing Case Studies\, Business Cases and Use Cases linked to the OIIE and ISO 18101.  After a brief review of the purpose for the effort and the methodology we are using\, volunteer facilitators will help each team apply the methodology to start the collaborative work process.    To lean more about this meeting and/or register please follow this link.
URL;VALUE=URI:https://www.mimosa.org/events/event/open-industrial-interoperability-ecosystem-oiie-capital-project-working-group-2nd-meeting/
SUMMARY:Open Industrial Interoperability Ecosystem (OIIE) Capital Project Working Group 2nd Meeting
DTSTART:20201217T130000Z
END:VEVENT
END:VCALENDAR
