BEGIN:VCALENDAR
VERSION:2.0
PRODID:-//DIGITAL FACTORY//EVENTS MAKER V1.6.14//EN
CALSCALE:GREGORIAN
BEGIN:VEVENT
DTEND:20210223T130000Z
UID:69e941c2ba5ad
DTSTAMP:20260422T214642Z
DESCRIPTION:The IPA/MIMOSA OIIE Capital Projects Working Group will hold a meeting on February 23\, 2021. This is part of the ongoing series to identify business challenges and opportunities for improvement in the capital projects industry that will benefit from a standardized approach to digital transformation.  Sub-Teams are being organized to work on specific topics of interest spanning the capital project lifecycle.    The effort will be based on a formal approach for developing Case Studies\, Business Cases and Use Cases linked to the OIIE and ISO 18101. After a brief review of the purpose for the effort and the methodology we are using\, volunteer facilitators will help each team apply the methodology to start the collaborative work process.    To learn more and register please follow this link.
URL;VALUE=URI:https://www.mimosa.org/events/event/open-industrial-interoperability-ecosystem-oiie-capital-project-working-group-meeting/
SUMMARY:Open Industrial Interoperability Ecosystem (OIIE) Capital Project Working Group Meeting
DTSTART:20210223T120000Z
END:VEVENT
END:VCALENDAR
