BEGIN:VCALENDAR
VERSION:2.0
PRODID:-//DIGITAL FACTORY//EVENTS MAKER V1.6.14//EN
CALSCALE:GREGORIAN
BEGIN:VEVENT
DTEND:20201104T150000Z
UID:69e95136001e4
DTSTAMP:20260422T225238Z
CATEGORIES:MIMOSA Open Meetings\,Non-MIMOSA Events\,Working Group Meeting
ORGANIZER;
DESCRIPTION:Join us in helping to solve interoperability challenges and move the capital project industry’s digitalization efforts forward.      Independent Project Analysis (IPA) and MIMOSA (industry trade association dedicated to the development and adoption of information technology and information management standards) are proud to announce the formation of the Open Industrial Interoperability Ecosystem (OIIE) Capital Project Working Group: . This working group will meet periodically to help align the efforts of owner companies\; engineering\, procurement\, and construction (EPC) firms\; industry standardization organizations (e.g.\, IOGP/CIFHOS\, ISA\, MIMOSA) and international standards organizations (ISO\, IEC\, etc.). All participants will work together to set the owner/EPC firm priorities for solution delivery to enable pragmatic industry digital transformation on a timely basis.    Interested parties should register ASAP using the following link: https://www.ipaglobal.com/event/capital-project-digitalization-joint-working-group-open-industrial-interoperability-ecosystem-oiie/
URL;VALUE=URI:https://www.mimosa.org/events/event/open-industrial-interoperability-ecosystem-oiie-capital-projects-digitalization-working-group-1st-meeting/
SUMMARY:Open Industrial Interoperability Ecosystem (OIIE) Capital Project Working Group 1st Meeting
DTSTART:20201104T140000Z
END:VEVENT
END:VCALENDAR
