BEGIN:VCALENDAR
VERSION:2.0
PRODID:-//DIGITAL FACTORY//EVENTS MAKER V1.6.14//EN
CALSCALE:GREGORIAN
BEGIN:VEVENT
DTEND:20120224T230000Z
UID:69e95136906fa
DTSTAMP:20260422T225238Z
LOCATION:Chevron Office (Briar Park) 3901 Briarpark Dr, Houston, Texas, 77042, US
ORGANIZER;
DESCRIPTION:OpenO&amp\;M/MIMOSA and PCA invite you to attend the OpenO&amp\;M/MIMOSA and PCA Forum – Americas 2011. The PCA Forum will be hosted by Chevron at Chevron Office\, Briar Park office in west Houston\, February 22nd through Feb 24th\, 2011.    The Forum will feature presentations and discussion from both owner/operators and suppliers identifying key business requirements and solutions leveraging open\, supplier neutral standards\, with a focus on the benefits of using OpenO&amp\;M and ISO 15926 in coordinated fashion.    Key themes:     	An integrated approach Operations and Maintenance Management incorporating Management of Change and Operational Risk Management   	Perspectives on Sustainable Interoperability and Life-cycle Engineering   	The roles of key standards - ISO 15926 and OpenO&amp\;M/MIMOSA usage and implementation    The event can accommodate up to 75 people and will consist of several simultaneous sessions starting Tuesday at 1:00 PM on the 22nd and ending in a joint MIMOSA/PCA conference on the 24th.    FIATECH board and member companies are also invited to this event
URL;VALUE=URI:https://www.mimosa.org/events/event/openommimosa-and-pca-forum-americas-2011/
SUMMARY:OpenO&amp\;M/MIMOSA and PCA Forum Americas 2011
DTSTART:20120222T190000Z
END:VEVENT
END:VCALENDAR
