BEGIN:VCALENDAR
VERSION:2.0
PRODID:-//DIGITAL FACTORY//EVENTS MAKER V1.6.14//EN
CALSCALE:GREGORIAN
BEGIN:VEVENT
DTEND:20120928
UID:69e9516526ec8
DTSTAMP:20260422T225325Z
CATEGORIES:MIMOSA Members Meetings
LOCATION:Orange County Convention Center 
ORGANIZER;
DESCRIPTION:Register now for the OpenO&amp\;M / MIMOSA meetings scheduled for September 26 and 27 at the Orange County Convention Center in Orlando in conjunction with ISA Automation Week. OpenO&amp\;M and OGI Pilot meetings will be held in Room 414D on Wednesday morning\, September 26 followed by an OpenO&amp\;M Interoperability Demonstration in the Exhibit Hall. OpenO&amp\;M and MIMOSA Technical Committee meetings will be held on Wednesday afternoon. The MIMOSA Annual Members meeting will be held on Thursday morning starting at 9AM. Please see detailed agenda and registration form available for download on this page.
URL;VALUE=URI:https://www.mimosa.org/events/event/openommimosa-meetings-including-mimosa-members-annual-meeting/
SUMMARY:OpenO&amp\;M/MIMOSA Meetings - Including MIMOSA Members Annual Meeting
DTSTART:20120926
END:VEVENT
END:VCALENDAR
