BEGIN:VCALENDAR
VERSION:2.0
PRODID:-//DIGITAL FACTORY//EVENTS MAKER V1.6.14//EN
CALSCALE:GREGORIAN
BEGIN:VEVENT
DTEND:20131023
UID:69e961311c300
DTSTAMP:20260423T000049Z
LOCATION:Intercontinental Hotel - Kuala Lumpur - Malaysia 
DESCRIPTION:MIMOSA will once again be part of the PCA Asia Pacific Forum to be held in the Intercontinental Hotel in Kuala Lumpur Malaysia Oct 21-22\, 2013. Alan Johnston\, the MIMOSA President\, will present and discuss the Oil and Gas Interoperability (OGI) Ecosystem\, the OGI Pilot and the associated ISO OGI Technical Specification.
URL;VALUE=URI:https://www.mimosa.org/events/event/pca-asia-pacific-forum/
SUMMARY:PCA Asia Pacific Forum
DTSTART:20131021
END:VEVENT
END:VCALENDAR
