BEGIN:VCALENDAR
VERSION:2.0
PRODID:-//DIGITAL FACTORY//EVENTS MAKER V1.6.14//EN
CALSCALE:GREGORIAN
BEGIN:VEVENT
DTEND:20140129
UID:69e961043f53e
DTSTAMP:20260423T000004Z
LOCATION:Houston, Texas Houston, Texas, 77079, US
DESCRIPTION:MIMOSA will participate in the Smart Fields Summit 2014 scheduled for January 27-28 in Houston\, Texas. Alan Johnston\, MIMOSA President\, will present and discuss the Oil and Gas Interoperability (OGI) Pilot\, which has become the major industry driven activity to achieve sustainable interoperability between key systems of systems used within the Oil and Gas industry and related industries. At this conference\, Mr. Johnston will show and discuss the applicability of the OGI Pilot™ to the Upstream Sector.    MIMOSA members are encouraged to attend and participate in this industry event. Additional information about the summit is available at the following link http://www.theenergyexchange.co.uk/.
URL;VALUE=URI:https://www.mimosa.org/events/event/smart-fields-summit-2014/
SUMMARY:Smart Fields Summit 2014
DTSTART:20140127
END:VEVENT
END:VCALENDAR
