BEGIN:VCALENDAR
VERSION:2.0
PRODID:-//DIGITAL FACTORY//EVENTS MAKER V1.6.14//EN
CALSCALE:GREGORIAN
BEGIN:VEVENT
DTEND:20151202T220000Z
UID:69e9612f62842
DTSTAMP:20260423T000047Z
LOCATION:BP America - Pondview Room Westlake 1\, 501 Westlake Park Blvd, Houston, Texas, 77079, US
ORGANIZER;
DESCRIPTION:MIMOSA will hold an all day Standards-based Interoperability Strategy and Planning Workshop on Dec 2\, 2015.  The meeting will be hosted by BP America at their Westlake facilities in Houston\, Texas and discussions will focus on plans for 2016\, related to the further development and deployment of the Open Industrial Interoperability Ecosystem (OIIE)\, in conjunction with MIMOSA members\, industry partners and other interested parties.    Particpating Industry Association Partners will include\, Fiatech\, PCA\, OPC Foundation\, PPDM and USPI.    Registration and arrivals will commence at 8:00 AM CST\, with coffee and pastries being served in the meeting room.  The workshop will commence at 8:30 AM with a welcome and safety briefing from our host\, Ken Dunn and the workshop will conclude at 4:00 PM CST.    Logistics: Follow signs to Westlake 1 Visitor parking. Press button on intercom\, indicate you are here for Mimosa meeting.  Proceed to Westlake 1 Reception\, provide driver’s license for identification.  Then\, ask for directions to Pondview room    Workshop Attendees need to send an email to atjohn@mimosa.org containing your name\, nationality and the firm you will be representing\, in order to have credentials prepared in advance.    &nbsp\;
URL;VALUE=URI:https://www.mimosa.org/events/event/standards-based-interoperability-strategy-and-planning-workshop/
SUMMARY:Standards-based Interoperability Strategy and Planning Workshop
DTSTART:20151202T140000Z
END:VEVENT
END:VCALENDAR
