BEGIN:VCALENDAR
VERSION:2.0
PRODID:-//DIGITAL FACTORY//EVENTS MAKER V1.6.14//EN
CALSCALE:GREGORIAN
BEGIN:VEVENT
DTEND:20130802
UID:69e96163e360b
DTSTAMP:20260423T000139Z
LOCATION:Beijing, China - China National Institute of Standardization Beijing, CN
DESCRIPTION:The China National Institute of Standardization is hosting the Standards Leadership Council for a key oil and gas industry standards day. MIMOSA is a founding member of the Standards Leadership Council based on its lengthy history of work in the oil and gas industry\, the MIMOSA CCOM Asset Object Model\, the OpenO&amp\;M Specifications and the OGI Pilot and OGI Ecosystem. The following presentation provides an overview of those key contributions to the effort.    Download Presentation
URL;VALUE=URI:https://www.mimosa.org/events/event/standards-leadership-council/
SUMMARY:Standards Leadership Council
DTSTART:20130730
END:VEVENT
END:VCALENDAR
